BEGIN:VCALENDAR
VERSION:2.0
PRODID:-//Launch Pad Trampoline Gymnastics Academy - ECPv6.15.14//NONSGML v1.0//EN
CALSCALE:GREGORIAN
METHOD:PUBLISH
X-WR-CALNAME:Launch Pad Trampoline Gymnastics Academy
X-ORIGINAL-URL:https://launchpadacademy.co.uk
X-WR-CALDESC:Events for Launch Pad Trampoline Gymnastics Academy
REFRESH-INTERVAL;VALUE=DURATION:PT1H
X-Robots-Tag:noindex
X-PUBLISHED-TTL:PT1H
BEGIN:VTIMEZONE
TZID:Europe/London
BEGIN:DAYLIGHT
TZOFFSETFROM:+0000
TZOFFSETTO:+0100
TZNAME:BST
DTSTART:20230326T010000
END:DAYLIGHT
BEGIN:STANDARD
TZOFFSETFROM:+0100
TZOFFSETTO:+0000
TZNAME:GMT
DTSTART:20231029T010000
END:STANDARD
BEGIN:DAYLIGHT
TZOFFSETFROM:+0000
TZOFFSETTO:+0100
TZNAME:BST
DTSTART:20240331T010000
END:DAYLIGHT
BEGIN:STANDARD
TZOFFSETFROM:+0100
TZOFFSETTO:+0000
TZNAME:GMT
DTSTART:20241027T010000
END:STANDARD
BEGIN:DAYLIGHT
TZOFFSETFROM:+0000
TZOFFSETTO:+0100
TZNAME:BST
DTSTART:20250330T010000
END:DAYLIGHT
BEGIN:STANDARD
TZOFFSETFROM:+0100
TZOFFSETTO:+0000
TZNAME:GMT
DTSTART:20251026T010000
END:STANDARD
END:VTIMEZONE
BEGIN:VEVENT
DTSTART;VALUE=DATE:20241215
DTEND;VALUE=DATE:20241216
DTSTAMP:20260422T142007
CREATED:20240116T134134Z
LAST-MODIFIED:20240116T134312Z
UID:2908-1734220800-1734307199@launchpadacademy.co.uk
SUMMARY:Kingston League Finals
DESCRIPTION:
URL:https://launchpadacademy.co.uk/event/kingston-league-finals/
CATEGORIES:Kingston League Competitions
END:VEVENT
BEGIN:VEVENT
DTSTART;VALUE=DATE:20241110
DTEND;VALUE=DATE:20241111
DTSTAMP:20260422T142007
CREATED:20240116T133909Z
LAST-MODIFIED:20240116T134315Z
UID:2896-1731196800-1731283199@launchpadacademy.co.uk
SUMMARY:Club Competition
DESCRIPTION:
URL:https://launchpadacademy.co.uk/event/club-competition-2/
CATEGORIES:Club Competitions
END:VEVENT
BEGIN:VEVENT
DTSTART;VALUE=DATE:20241013
DTEND;VALUE=DATE:20241014
DTSTAMP:20260422T142007
CREATED:20240116T134059Z
LAST-MODIFIED:20240116T134059Z
UID:2906-1728777600-1728863999@launchpadacademy.co.uk
SUMMARY:Kingston League
DESCRIPTION:
URL:https://launchpadacademy.co.uk/event/kingston-league-3/
CATEGORIES:Kingston League Competitions
END:VEVENT
BEGIN:VEVENT
DTSTART;VALUE=DATE:20240630
DTEND;VALUE=DATE:20240701
DTSTAMP:20260422T142007
CREATED:20240116T134024Z
LAST-MODIFIED:20240116T134024Z
UID:2904-1719705600-1719791999@launchpadacademy.co.uk
SUMMARY:Kingston League
DESCRIPTION:
URL:https://launchpadacademy.co.uk/event/kingston-league-2/
CATEGORIES:Kingston League Competitions
END:VEVENT
BEGIN:VEVENT
DTSTART;VALUE=DATE:20240609
DTEND;VALUE=DATE:20240610
DTSTAMP:20260422T142007
CREATED:20240116T133244Z
LAST-MODIFIED:20240116T133819Z
UID:2897-1717891200-1717977599@launchpadacademy.co.uk
SUMMARY:Club Competition
DESCRIPTION:
URL:https://launchpadacademy.co.uk/event/club-competition/
CATEGORIES:Club Competitions
END:VEVENT
BEGIN:VEVENT
DTSTART;VALUE=DATE:20240414
DTEND;VALUE=DATE:20240415
DTSTAMP:20260422T142007
CREATED:20240116T134005Z
LAST-MODIFIED:20240116T134005Z
UID:2902-1713052800-1713139199@launchpadacademy.co.uk
SUMMARY:Kingston League
DESCRIPTION:
URL:https://launchpadacademy.co.uk/event/kingston-league/
CATEGORIES:Kingston League Competitions
END:VEVENT
END:VCALENDAR